BEGIN:VCALENDAR
VERSION:2.0
PRODID:-//eventon.com NONSGML v1.0//EN
CALSCALE:GREGORIAN
METHOD:PUBLISH
BEGIN:VEVENT
UID:69e73bb0ce424
DTSTAMP:20260421T085616Z
DTSTART:20200730T213000Z
DTEND:20200730T221500Z
LOCATION:
SUMMARY:Space Coast FPRA Virtual Event benefits our kids
DESCRIPTION:Join the Space Coast Chapter of the FL Public Relations Associa
 tion for their bi-annual charity event TODAY! In lieu of an in-person event
 \,  Space Coast FPRA will host a VIRTUAL HAPPY HOUR and attendees can netwo
 rk\,  and hear from TCHP&#8217;s Executive Director Cheryl Cominsky. SCFPRA
  will match each registration fee\, [..]\nhttps://thechildrenshungerproject
 .org/events/1668/
URL:https://thechildrenshungerproject.org/events/1668/
END:VEVENT
END:VCALENDAR