BEGIN:VCALENDAR
VERSION:2.0
PRODID:-//eventon.com NONSGML v1.0//EN
CALSCALE:GREGORIAN
METHOD:PUBLISH
BEGIN:VEVENT
UID:69eb3a25444d9
DTSTAMP:20260424T093845Z
DTSTART:20210522T220000Z
DTEND:20210523T020000Z
LOCATION:Wickham Park 2500 Parkway Drive\,  Melbourne
SUMMARY:2nd Annual Space Coast Wing Battle May 22nd
DESCRIPTION:2ND ANNUAL SPACE COAST WING BATTLE In Partnership with The Chil
 drenâ€™s Hunger Project ALL YOU CAN EAT/DRINK EVENT + VENDOR COMPETITION! â
 –  PAID TICKET REQUIRED for Event Admission â–  21+ EVENT â€“ Valid ID Requ
 ired for Entry â–  UNLIMITED Wing Tastings â–  UNLIMITED 12-oz. Beers â–  L
 ive Music All Night[..]\nhttps://thechildrenshungerproject.org/events/2059/
URL:https://thechildrenshungerproject.org/events/2059/
END:VEVENT
END:VCALENDAR