BEGIN:VCALENDAR
VERSION:2.0
PRODID:-//eventon.com NONSGML v1.0//EN
CALSCALE:GREGORIAN
METHOD:PUBLISH
BEGIN:VEVENT
UID:69e73f3cd6a8e
DTSTAMP:20260421T091124Z
DTSTART:20230812T133000Z
DTEND:20230812T144500Z
LOCATION:Boniface-Hiers Chrysler Dodge Jeep Ram 2555 King St. Cocoa 32926
SUMMARY:Space Coast Jeep Club Charity Poker Run
DESCRIPTION:August 12 Registration from 9:30am-10:45am at Boniface-Hiers Ch
 rysler Dodge Jeep Ram\,  2555 King St. Cocoa 32926 Hands $20 each or couple
 s $30\nhttps://thechildrenshungerproject.org/events/space-coast-jeep-club-c
 harity-poker-run/
URL:https://thechildrenshungerproject.org/events/space-coast-jeep-club-charity-poker-run/
END:VEVENT
END:VCALENDAR