BEGIN:VCALENDAR
VERSION:2.0
PRODID:-//eventon.com NONSGML v1.0//EN
CALSCALE:GREGORIAN
METHOD:PUBLISH
BEGIN:VEVENT
UID:69e73b796ebac
DTSTAMP:20260421T085521Z
DTSTART:20231028T210000Z
DTEND:20231028T230000Z
LOCATION:The Avenue Viera 2261 Town Center Ave Melbourne 32940
SUMMARY:BOO BASH HELPS FEED HUNGRY KIDS
DESCRIPTION:Saturday\,  October 28 | 5 PM &#8211; 7 PM 5PM &#8211; Boo Bash
  Begins 6:15PM &#8211; Family Costume Contests Admission: $5\,  RSVP requir
 ed per child Check in begins 4:45PM. Kids receive a goodie bag with candy\,
   glow stick\,  craft\,  boo bash punch ticket and more! Boo Bash is your n
 ot-so-spooky[..]\nhttps://thechildrenshungerproject.org/events/boo-bash-hel
 ps-feed-hungry-kids/
URL:https://thechildrenshungerproject.org/events/boo-bash-helps-feed-hungry-kids/
END:VEVENT
END:VCALENDAR