BEGIN:VCALENDAR
VERSION:2.0
PRODID:-//eventon.com NONSGML v1.0//EN
CALSCALE:GREGORIAN
METHOD:PUBLISH
BEGIN:VEVENT
UID:69e73b45db005
DTSTAMP:20260421T085429Z
DTSTART:20250608T150000Z
DTEND:20250608T200000Z
LOCATION:Intracoastal Brewing Company 652 W Eau Gallie Blvd\,  Melbourne 32935
SUMMARY:Space Coast Jeeps Summer Rollout
DESCRIPTION:Space Coast Jeeps Summer Rollout Join us for the Space Coast Je
 eps Summer Rollout at Intracoastal Brewing Company! This event is open to a
 ll Jeep owners! Showcase spots will be reserved and are available first com
 e\,  first served &#8211; FREE! Sunday\,  June 8th | 11AM – 4PM We’re t
 eaming up[..]\nhttps://thechildrenshungerproject.org/events/space-coast-jee
 ps-summer-rollout/
URL:https://thechildrenshungerproject.org/events/space-coast-jeeps-summer-rollout/
END:VEVENT
END:VCALENDAR