BEGIN:VCALENDAR
VERSION:2.0
PRODID:-//eventon.com NONSGML v1.0//EN
CALSCALE:GREGORIAN
METHOD:PUBLISH
BEGIN:VEVENT
UID:69e8dbc58bc8c
DTSTAMP:20260422T143133Z
DTSTART:20250809T180000Z
DTEND:20250809T210000Z
LOCATION:A NEW IMAGE SALON\,  SPA &amp; TAN 1345 Hwy US 1 Rockledge 32955
SUMMARY:A NEW IMAGE SALON & SPA 2nd ANNIVERSARY
DESCRIPTION:Cheers to two years! Celebrate Angel Face Esthetics 2nd year wi
 th us Saturday\,  August 9th\,  2025! 2-5pm! Live performance by Destiny Se
 well Goodie bags for the first 25 guests to arrive Facial promos &#8211; Gi
 ft certificates available Enter to win amazing raffle prizes! Fairy Hair &#
 8211; Sparkle Berry Hair Permanent[..]\nhttps://thechildrenshungerproject.o
 rg/events/a-new-image-salon-spa-2nd-anniversary/
URL:https://thechildrenshungerproject.org/events/a-new-image-salon-spa-2nd-anniversary/
END:VEVENT
END:VCALENDAR