BEGIN:VCALENDAR
VERSION:2.0
PRODID:-//eventon.com NONSGML v1.0//EN
CALSCALE:GREGORIAN
METHOD:PUBLISH
BEGIN:VEVENT
UID:69e73ba86da81
DTSTAMP:20260421T085608Z
DTSTART:20251005T193000Z
DTEND:20251005T210000Z
LOCATION:Riverside Presbyterian Church 3400 N. Atlantic Ave. Cocoa Beach 32931
SUMMARY:RIVERSIDE PRESBYTERIAN POPS SPECTACLE
DESCRIPTION:Mark your calendar! Tickets are $15. CLICK HERE for tickets. Ma
 ke sure to get your tickets early\,  you won&#8217;t want to miss this!! Th
 e Pops Spectacle will feature music from Evita\,  The King and I\,  Forest 
 Gump and Star Wars! October 5\,  3:30pm\,  3400 N. Atlantic Ave. Cocoa Beac
 h 32931.[..]\nhttps://thechildrenshungerproject.org/events/riverside-presby
 terian-pops-spectacle/
URL:https://thechildrenshungerproject.org/events/riverside-presbyterian-pops-spectacle/
END:VEVENT
END:VCALENDAR