BEGIN:VCALENDAR
VERSION:2.0
PRODID:-//eventon.com NONSGML v1.0//EN
CALSCALE:GREGORIAN
METHOD:PUBLISH
BEGIN:VEVENT
UID:69e73b9678783
DTSTAMP:20260421T085550Z
DTSTART:20251213T230000Z
DTEND:20251214T040000Z
LOCATION:George and Dragon English Tavern 502 Brevard Ave\,  Cocoa\,  FL 32922
SUMMARY:11th Annual Santa Stumble Pub Crawl Cocoa Village
DESCRIPTION:11th Annual Santa Scramble Pub Crawl Cocoa Village Starting at 
 George &amp; Dragon (Costume Contest)\,  502 Brevard Ave\,  Cocoa\,  FL 329
 22 Wear your Santa\,  Mrs. Santa\,  elvish\,  Grinch\,  Krampus\,  or whate
 ver Holiday garb you wish. Costume Contest &amp; other shenanigans. Food av
 ailable at most stops. Live music at some locations.[..]\nhttps://thechildr
 enshungerproject.org/events/santa-pub-crawl-2025/
URL:https://thechildrenshungerproject.org/events/santa-pub-crawl-2025/
END:VEVENT
END:VCALENDAR