BEGIN:VCALENDAR
VERSION:2.0
PRODID:-//eventon.com NONSGML v1.0//EN
CALSCALE:GREGORIAN
METHOD:PUBLISH
BEGIN:VEVENT
UID:69e73fa203af3
DTSTAMP:20260421T091306Z
DTSTART:20251129T130000Z
DTEND:20251208T020000Z
LOCATION:
SUMMARY:CRICKET FOOD DRIVE
DESCRIPTION:We’re proud to partner with Cricket Wireless as they take act
 ion to fight childhood hunger in Brevard! From Nov 29–Dec 7\,  8 Cricket 
 Wireless locations across the county will host a Food Drive benefiting The 
 Children’s Hunger Project. Your donations will help provide weekend meals
  for local children who need[..]\nhttps://thechildrenshungerproject.org/eve
 nts/cricket-food-drive/
URL:https://thechildrenshungerproject.org/events/cricket-food-drive/
END:VEVENT
END:VCALENDAR