BEGIN:VCALENDAR
VERSION:2.0
PRODID:-//eventon.com NONSGML v1.0//EN
CALSCALE:GREGORIAN
METHOD:PUBLISH
BEGIN:VEVENT
UID:69e73fdc68f49
DTSTAMP:20260421T091404Z
DTSTART:20190402T150000Z
DTEND:20190402T180000Z
LOCATION:Pub Americana 401 Dellanoy Ave
SUMMARY:Giving Tuesday at Pub Americana with Dirty Oar Beer Company
DESCRIPTION:&nbsp; Tuesday\,  April 2nd Pub Americana and Dirty Oar Beer Co
 mpany are cooking up something special! Tickets to this incredible event ar
 e available for $25 on Eventbrite. A portion of each ticket sale will be do
 nated to The Children’s Hunger Project! There will be great food and Dirt
 y Oar Beer[..]\nhttps://thechildrenshungerproject.org/events/640/
URL:https://thechildrenshungerproject.org/events/640/
END:VEVENT
END:VCALENDAR